BEGIN:VCALENDAR
VERSION:2.0
PRODID:-//FOE Foundation - ECPv6.7.0//NONSGML v1.0//EN
CALSCALE:GREGORIAN
METHOD:PUBLISH
X-ORIGINAL-URL:https://foefoundation.org
X-WR-CALDESC:Events for FOE Foundation
REFRESH-INTERVAL;VALUE=DURATION:PT1H
X-Robots-Tag:noindex
X-PUBLISHED-TTL:PT1H
BEGIN:VTIMEZONE
TZID:America/New_York
BEGIN:DAYLIGHT
TZOFFSETFROM:-0500
TZOFFSETTO:-0400
TZNAME:EDT
DTSTART:20200308T070000
END:DAYLIGHT
BEGIN:STANDARD
TZOFFSETFROM:-0400
TZOFFSETTO:-0500
TZNAME:EST
DTSTART:20201101T060000
END:STANDARD
BEGIN:DAYLIGHT
TZOFFSETFROM:-0500
TZOFFSETTO:-0400
TZNAME:EDT
DTSTART:20210314T070000
END:DAYLIGHT
BEGIN:STANDARD
TZOFFSETFROM:-0400
TZOFFSETTO:-0500
TZNAME:EST
DTSTART:20211107T060000
END:STANDARD
BEGIN:DAYLIGHT
TZOFFSETFROM:-0500
TZOFFSETTO:-0400
TZNAME:EDT
DTSTART:20220313T070000
END:DAYLIGHT
BEGIN:STANDARD
TZOFFSETFROM:-0400
TZOFFSETTO:-0500
TZNAME:EST
DTSTART:20221106T060000
END:STANDARD
END:VTIMEZONE
BEGIN:VEVENT
DTSTART;VALUE=DATE:20200815
DTEND;VALUE=DATE:20200816
DTSTAMP:20260422T155536
CREATED:20200309T201543Z
LAST-MODIFIED:20200309T201543Z
UID:4596-1597449600-1597535999@foefoundation.org
SUMMARY:Philadelphia Backpack Giveaway
DESCRIPTION:
URL:https://foefoundation.org/event/philadelphia-backpack-giveaway/
LOCATION:Hunting Park\, Philadelphia\, Hunting Park\, Philadelphia\, Philadelphia\, PA\, 19140\, United States
END:VEVENT
BEGIN:VEVENT
DTSTART;VALUE=DATE:20220814
DTEND;VALUE=DATE:20220815
DTSTAMP:20260422T155536
CREATED:20221021T033208Z
LAST-MODIFIED:20221104T195954Z
UID:4628-1660435200-1660521599@foefoundation.org
SUMMARY:7th Annual Philadelphia Backpack Giveaway
DESCRIPTION:[vc_row][vc_column][vc_column_text][/vc_column_text][/vc_column][/vc_row][vc_row][vc_column][vc_column_text]To help students in the Philadelphia area get ready for the 2022-2023 academic year\, we held our 7th annual FOE Backpack Giveaway in Stenton Park. FOE Foundation provided backpacks\, beautiful bicycles\, back-to-school physicals and haircuts to aid in the students’ preparation for a successful school year. The event also featured food from local vendors\, face painting\, football coaching and games. We’re looking forward to the 8th annual giveaway next summer![/vc_column_text][/vc_column][/vc_row]
URL:https://foefoundation.org/event/7th-annual-philadelphia-backpack-giveaway/
LOCATION:Stenton Park\, Philadelphia\, Stenton Park\, Philadelphia\, Philadelphia\, PA\, 4600\, United States
CATEGORIES:Gallery 2022,Recent Events
END:VEVENT
END:VCALENDAR