BEGIN:VCALENDAR
VERSION:2.0
PRODID:-//FOE Foundation - ECPv6.7.0//NONSGML v1.0//EN
CALSCALE:GREGORIAN
METHOD:PUBLISH
X-ORIGINAL-URL:https://foefoundation.org
X-WR-CALDESC:Events for FOE Foundation
REFRESH-INTERVAL;VALUE=DURATION:PT1H
X-Robots-Tag:noindex
X-PUBLISHED-TTL:PT1H
BEGIN:VTIMEZONE
TZID:America/New_York
BEGIN:DAYLIGHT
TZOFFSETFROM:-0500
TZOFFSETTO:-0400
TZNAME:EDT
DTSTART:20180311T070000
END:DAYLIGHT
BEGIN:STANDARD
TZOFFSETFROM:-0400
TZOFFSETTO:-0500
TZNAME:EST
DTSTART:20181104T060000
END:STANDARD
END:VTIMEZONE
BEGIN:VEVENT
DTSTART;VALUE=DATE:20181214
DTEND;VALUE=DATE:20181216
DTSTAMP:20260422T114524
CREATED:20190102T163849Z
LAST-MODIFIED:20190802T133803Z
UID:3092-1544745600-1544918399@foefoundation.org
SUMMARY:The Family Over Everything Foundation Hosts its First Annual Basketball Tournament
DESCRIPTION:[vc_row][vc_column][vc_column_text]On December 14 and December 15 the Family Over Everything Foundation hosted its First Annual Basketball Tournament at Prep Charter High School in Philadelphia\, PA. Four local high schools competed on Friday and Saturday\, with Prep Charter as the winner. Attendees were treated to giveaways from the Boston Celtics and Washington Wizards\, and drinks were provided by Coco 5 Water.[/vc_column_text][/vc_column][/vc_row][vc_row][vc_column][vc_masonry_media_grid grid_id=”vc_gid:1546447350985-6ee65df2-aaa1-1″ include=”3095\,3096\,3097\,3098\,3099\,3100″][/vc_column][/vc_row]
URL:https://foefoundation.org/event/the-family-over-everything-foundation-hosts-its-first-annual-basketball-tournament/
LOCATION:PA
CATEGORIES:Gallery 2018
ATTACH;FMTTYPE=image/jpeg:https://foefoundation.org/wp-content/uploads/2019/01/IMG_4440.jpg
END:VEVENT
END:VCALENDAR