BEGIN:VCALENDAR
VERSION:2.0
PRODID:-//FOE Foundation - ECPv6.7.0//NONSGML v1.0//EN
CALSCALE:GREGORIAN
METHOD:PUBLISH
X-WR-CALNAME:FOE Foundation
X-ORIGINAL-URL:https://foefoundation.org
X-WR-CALDESC:Events for FOE Foundation
REFRESH-INTERVAL;VALUE=DURATION:PT1H
X-Robots-Tag:noindex
X-PUBLISHED-TTL:PT1H
BEGIN:VTIMEZONE
TZID:America/New_York
BEGIN:DAYLIGHT
TZOFFSETFROM:-0500
TZOFFSETTO:-0400
TZNAME:EDT
DTSTART:20180311T070000
END:DAYLIGHT
BEGIN:STANDARD
TZOFFSETFROM:-0400
TZOFFSETTO:-0500
TZNAME:EST
DTSTART:20181104T060000
END:STANDARD
END:VTIMEZONE
BEGIN:VEVENT
DTSTART;VALUE=DATE:20181113
DTEND;VALUE=DATE:20181114
DTSTAMP:20260420T054355
CREATED:20181108T203629Z
LAST-MODIFIED:20191024T205919Z
UID:3014-1542067200-1542153599@foefoundation.org
SUMMARY:Family Over Everything Foundation + UNICEF Kid Power Challenge with Markieff in D.C.
DESCRIPTION:[vc_row][vc_column][vc_single_image image=”3005″ img_size=”full” el_id=”flyer”][vc_column_text]On November 13\, FOE Foundation co-founder Markieff Morris helped kick off the UNICEF Kid Power Challenge at Capital City Public Charter School in Washington D.C. Markieff spoke with the boys and girls basketball teams about the initiative and also offered life advice and inspiration. \nDuring the month-long competition\, the boys and girls basketball teams from Capital City Public Charter School will compete against student-athletes at TechBoston Academy — located in Boston\, MA and represented by Marcus Morris. The more physical activity students track with their UNICEF Kid Power Bands donated by FOE Foundation\, the more lifesaving nutrition packets they can help provide for severely malnourished children around the world. The challenge will conclude in mid-December for the 100 participating students. \nCheck out the Washington Post article featuring Markieff’s school visit HERE.[/vc_column_text][vc_masonry_media_grid grid_id=”vc_gid:1569527576934-7b0f436e-3c49-2″ include=”3015\,3016\,3017″][/vc_column][/vc_row]
URL:https://foefoundation.org/event/family-over-everything-foundation-unicef-kid-power-challenge-with-markieff-in-d-c/
LOCATION:100 Peabody St NW\, 100 Peabody St NW\, Washington\, DC\, 20011\, United States
CATEGORIES:Gallery 2018,Kids Power Challenge
ATTACH;FMTTYPE=image/jpeg:https://foefoundation.org/wp-content/uploads/2018/11/IMG_3204.jpg
END:VEVENT
END:VCALENDAR